BEGIN:VCALENDAR
PRODID:-//eluceo/ical//2.0/EN
VERSION:2.0
CALSCALE:GREGORIAN
BEGIN:VEVENT
UID:8199e30194cb94d827543d2feb9fa7f4
DTSTAMP:20260423T164233Z
SUMMARY:VBGIGs: Globally Inspired Gatherings
DESCRIPTION:Tidewater Jewish Foundation\nCalendar\nhttps://foundation.jewis
 hva.org/calendar/vbgigs-globally-inspired-gatherings-444795\n\nShop for lo
 cal produce in the beautiful ViBe District while performers from Virginia 
 Stage Company regale the market with a revue of some of Fiddler on the Roo
 f&#39\;s most popular tunes to celebrate Ukrainian and Eastern European J
 ewish culture.\n\nFiddler on the Roof is based on the original stories of 
 Sholem Aleichem\, a survivor of the 1890s pogroms in what is now present-d
 ay Ukraine.\n\nFree & Open to the Community • Learn More + Register Toda
 y \n\nSee all our Fiddler Frenzy events at Jewi...
DTSTART;TZID=America/New_York:20230819T090000
DTEND;TZID=America/New_York:20230819T120000
END:VEVENT
END:VCALENDAR
