BEGIN:VCALENDAR
PRODID:-//eluceo/ical//2.0/EN
VERSION:2.0
CALSCALE:GREGORIAN
BEGIN:VEVENT
UID:6e2aa04f48724a418f19d949b4747bd1
DTSTAMP:20260419T143448Z
SUMMARY:POSTPONED: Yaniv - Virginia Festival of Jewish Film
DESCRIPTION:Tidewater Jewish Foundation\nCalendar\nhttps://foundation.jewis
 hva.org/calendar/virginia-festival-of-jewish-film-1704382001-456916\n\n.vi
 deo-container {\n    width: 100%\;\n    max-width: 640px\;\n  }\n  \n  vid
 eo {\n    width: 100%\;\n  }\n\n  @media (max-width: 768px) {\n    .video-
 container {\n      max-width: 320px\;\n    }\n  }\n\nYaniv - RESCHEDULED F
 OR THURSDAY\, FEBRUARY 27\n\n2 Showings - 2:30pm & 7:30pm\n\nA high school
  teacher in the Bronx loses funding for the school musical and convinces h
 is fellow statistics teacher\, secretly a recovering gambling addict\, to 
 help him cheat at an underground card game run by the Has...
DTSTART;TZID=America/New_York:20250220T000000
DTEND;TZID=America/New_York:20250220T235959
END:VEVENT
END:VCALENDAR
