BEGIN:VCALENDAR
PRODID:-//eluceo/ical//2.0/EN
VERSION:2.0
CALSCALE:GREGORIAN
BEGIN:VEVENT
UID:1bc31ed9c49a8d9c346239cda8fd03b4
DTSTAMP:20260423T023553Z
SUMMARY:Virginia Stage Company Presents Fiddler on the Roof
DESCRIPTION:Tidewater Jewish Foundation\nCalendar\nhttps://foundation.jewis
 hva.org/calendar/virginia-stage-company-presents-fiddler-on-the-roof-16932
 49982-446796\n\nProduced in partnership with United Jewish Federation of T
 idewater and Simon Family JCC\n\nOCTOBER 4 - 29\, 2023\n\nGet tickets at w
 ww.VAStage.org/Fiddler
DTSTART;TZID=America/New_York:20231005T193000
DTEND;TZID=America/New_York:20231005T223000
END:VEVENT
END:VCALENDAR
