BEGIN:VCALENDAR
PRODID:-//eluceo/ical//2.0/EN
VERSION:2.0
CALSCALE:GREGORIAN
BEGIN:VEVENT
UID:2d70fd356e81bc06ceae82b1ad6e8271
DTSTAMP:20260422T022413Z
SUMMARY:WC - Mtg #3
DESCRIPTION:Tidewater Jewish Foundation\nCalendar\nhttps://foundation.jewis
 hva.org/calendar/wc---mtg-3-1679000050-434015\n\nWomen&#039\;s Cabinet - M
 eeting #3
DTSTART;TZID=America/New_York:20231116T120000
DTEND;TZID=America/New_York:20231116T133000
END:VEVENT
END:VCALENDAR
