BEGIN:VCALENDAR
PRODID:-//eluceo/ical//2.0/EN
VERSION:2.0
CALSCALE:GREGORIAN
BEGIN:VEVENT
UID:662c2ff4b367759207b53cad873a8dbb
DTSTAMP:20260425T130351Z
SUMMARY:WC Mtg #2
DESCRIPTION:Tidewater Jewish Foundation\nCalendar\nhttps://foundation.jewis
 hva.org/calendar/wc-mtg-2-1678999564-434011\n\nWomen&#039\;s Cabinet Mtg. 
 #2
DTSTART;TZID=America/New_York:20231005T120000
DTEND;TZID=America/New_York:20231005T133000
END:VEVENT
END:VCALENDAR
