BEGIN:VCALENDAR
PRODID:-//eluceo/ical//2.0/EN
VERSION:2.0
CALSCALE:GREGORIAN
BEGIN:VEVENT
UID:563346c51f71b50cfdf0e5f620fc3dfb
DTSTAMP:20260423T212723Z
SUMMARY:Women's Cabinet Mtg #1
DESCRIPTION:Tidewater Jewish Foundation\nCalendar\nhttps://foundation.jewis
 hva.org/calendar/womens-cabinet-mtg-1-433996\n\nmeeting #1
DTSTART;TZID=America/New_York:20230921T120000
DTEND;TZID=America/New_York:20230921T140000
END:VEVENT
END:VCALENDAR
