BEGIN:VCALENDAR
PRODID:-//eluceo/ical//2.0/EN
VERSION:2.0
CALSCALE:GREGORIAN
BEGIN:VEVENT
UID:ba577d2bc7522454c9f964b69e9175bc
DTSTAMP:20260424T071137Z
SUMMARY:Women's Cabinet Spring Luncheon
DESCRIPTION:Tidewater Jewish Foundation\nCalendar\nhttps://foundation.jewis
 hva.org/calendar/womens-cabinet-spring-luncheon-1658177054-412416\n\nOff s
 ite - TBD
DTSTART;TZID=America/New_York:20230516T113000
DTEND;TZID=America/New_York:20230516T140000
END:VEVENT
END:VCALENDAR
