BEGIN:VCALENDAR
PRODID:-//eluceo/ical//2.0/EN
VERSION:2.0
CALSCALE:GREGORIAN
BEGIN:VEVENT
UID:00eaf12365f88780cc934ca243e33225
DTSTAMP:20260423T215430Z
SUMMARY:YAD Cabinet Meeting
DESCRIPTION:Tidewater Jewish Foundation\nCalendar\nhttps://foundation.jewis
 hva.org/calendar/yad-cabinet-meeting-1696264584-449495\n\nYAD Cabinet Meet
 ing
DTSTART;TZID=America/New_York:20231016T180000
DTEND;TZID=America/New_York:20231016T193000
END:VEVENT
END:VCALENDAR
