BEGIN:VCALENDAR
PRODID:-//eluceo/ical//2.0/EN
VERSION:2.0
CALSCALE:GREGORIAN
BEGIN:VEVENT
UID:51324a90338c9fd56b5e01b577d18272
DTSTAMP:20260420T083137Z
SUMMARY:YAD Cabinet Meeting
DESCRIPTION:Tidewater Jewish Foundation\nCalendar\nhttps://foundation.jewis
 hva.org/calendar/yad-cabinet-meeting-1726677153-477282\n\nMore Info to com
 e.
DTSTART;TZID=America/New_York:20241015T180000
DTEND;TZID=America/New_York:20241015T200000
END:VEVENT
END:VCALENDAR
