BEGIN:VCALENDAR
PRODID:-//eluceo/ical//2.0/EN
VERSION:2.0
CALSCALE:GREGORIAN
BEGIN:VEVENT
UID:1cf48d0c21f28005420b690cb65bd340
DTSTAMP:20260421T043743Z
SUMMARY:YAD Goes To The Admirals
DESCRIPTION:Tidewater Jewish Foundation\nCalendar\nhttps://foundation.jewis
 hva.org/calendar/yad-goes-to-the-admirals-1704414958-456994\n\nJoin YAD as
  we head to the Scope to cheer on the Norfolk Admirals! Early bird pricing
  through January 12th! Kids welcome and no tickets required for those 2 an
 d under.\n\nPlease allow a moment for widget below to load.
DTSTART;TZID=America/New_York:20240120T180000
DTEND;TZID=America/New_York:20240120T200000
END:VEVENT
END:VCALENDAR
