BEGIN:VCALENDAR
PRODID:-//eluceo/ical//2.0/EN
VERSION:2.0
CALSCALE:GREGORIAN
BEGIN:VEVENT
UID:25c4bd6b1770df86f748949f65eedc65
DTSTAMP:20260424T100339Z
SUMMARY:YAD Stands for Israel
DESCRIPTION:Tidewater Jewish Foundation\nCalendar\nhttps://foundation.jewis
 hva.org/calendar/yad-stands-for-israel-450310\n\nJoin us as Young Adults c
 ome together to stand in solidarity with Israel.\n\nPlease allow one momen
 t for information below to load.
DTSTART;TZID=America/New_York:20231023T183000
DTEND;TZID=America/New_York:20231023T192500
END:VEVENT
END:VCALENDAR
