BEGIN:VCALENDAR
PRODID:-//eluceo/ical//2.0/EN
VERSION:2.0
CALSCALE:GREGORIAN
BEGIN:VEVENT
UID:61e9667898016c2232a2f3b8111155b3
DTSTAMP:20260422T083703Z
SUMMARY:Yiddish Club
DESCRIPTION:Tidewater Jewish Foundation\nCalendar\nhttps://foundation.jewis
 hva.org/calendar/yiddish-club-12-469950\n\nYiddish Club is returning to th
 e Simon Family JCC!  This event promises to be a joyous occasion where a
 ttendees can reconnect with old friends and make new ones who share a love
  for Yiddishkeit.\n\nThe Yiddish Club is a vibrant hub for preserving and 
 promoting the Yiddish language and its rich heritage\, making it an essent
 ial part of the community.\n\nThis club is free and open to the community 
 and will reoccur every other Tuesday throughout the year. RSVP REQUIRED. P
 lease see below.\n\n 
DTSTART;TZID=America/New_York:20240709T130000
DTEND;TZID=America/New_York:20240709T140000
END:VEVENT
END:VCALENDAR
